BEGIN:VCALENDAR
VERSION:2.0
PRODID:-//Hartamas Academy - ECPv6.15.20//NONSGML v1.0//EN
CALSCALE:GREGORIAN
METHOD:PUBLISH
X-WR-CALNAME:Hartamas Academy
X-ORIGINAL-URL:https://hartamasacademy.com
X-WR-CALDESC:Events for Hartamas Academy
REFRESH-INTERVAL;VALUE=DURATION:PT1H
X-Robots-Tag:noindex
X-PUBLISHED-TTL:PT1H
BEGIN:VTIMEZONE
TZID:Asia/Kuala_Lumpur
BEGIN:STANDARD
TZOFFSETFROM:+0800
TZOFFSETTO:+0800
TZNAME:+08
DTSTART:20240101T000000
END:STANDARD
END:VTIMEZONE
BEGIN:VEVENT
DTSTART;TZID=Asia/Kuala_Lumpur:20251219T100000
DTEND;TZID=Asia/Kuala_Lumpur:20251219T130000
DTSTAMP:20260423T220033
CREATED:20251118T054808Z
LAST-MODIFIED:20251218T090719Z
UID:4606-1766138400-1766149200@hartamasacademy.com
SUMMARY:Managing Tenancy Agreements: General\, Commercial and Dealing with Defaulters
DESCRIPTION:« All Events\n 				\n				\n				\n				\n					This event has passed. \n				\n				\n				\n				\n					\n	Managing Tenancy Agreements: General\, Commercial and Dealing with Defaulters				\n				\n				\n				\n									[3 CPD hours Approved by LPPEH] 								\n				\n		\n					\n				\n				\n					\n	\n				\n				\n		\n				\n				\n									Date & Time:								\n				\n				\n				\n					\n		\n			19 December 2025 (Friday)\n\n		\n\n\n	\n				\n				\n				\n				\n					\n		\n		\n\n\n10:00 am\n\n		\n\n\n\n	\n	  -  \n\n1:00 pm\n\n\n\n	\n				\n				\n				\n				\n									Venue:								\n				\n				\n				\n									Hartamas Training CentreLevel 13\, Block A\, Menara Prima\, Jalan PJU 1/37\, Dataran Prima\, 47301\, Petaling Jaya\, Selangor Darul Ehsan. 								\n				\n				\n				\n							\n			\n		\n						\n				\n				\n					\n				\n				\n				\n					Speaker				\n				\n				\n				\n									Mr. David KokManaging PartnerMessrs David Kok & Partners (Advocates & Solicitors)  								\n				\n				\n				\n					Talk Points				\n				\n				\n				\n									General Tenancy Agreement \n\nIdentification of Parties.\nTypes of deposits.\nTypes of business.\nDuration.\nSublet.\nOption to renew clauses.\nSpecial clauses.\nDefault clauses.\nRemedies against defaulters\n\nCommercial Tenancy Agreement \nIdentification of parties.Types of deposits and guarantees.Special clauses for renovation\, fit out works etc.Default clauses.Maintenance clauses.Special conditions.Restoration clauses.\n\n 								\n				\n				\n				\n							\n			\n						\n		\n						\n				\n				\n						\n					\n			\n						\n				\n					\n	\n		\n\n	\n	Add to calendar	\n		\n	\n\n		\n			\n									\n	Google Calendar\n\n									\n	iCalendar\n\n									\n	Outlook 365\n\n									\n	Outlook Live\n\n							\n		\n\n		\n	\n\n				\n				\n					\n		\n					\n		\n				\n						\n					\n			\n						\n				\n					\n	\n		\n\n				Follow-Up Mastery: Turning Online Leads into Sales	\n\n\n		\n	\n		Sell Like a Strategist: Master the Property Game with Influence\, Mindset & Closing Power			\n\n	\n\n				\n				\n					\n		\n					\n		\n					\n		\n					\n		\n				\n		Share this on:
URL:https://hartamasacademy.com/event/managing-tenancy-agreements-general-commercial-and-dealing-with-defaulters/
LOCATION:Hartamas Training Centre\, Level 13\, Block A\, Menara Prima\, Jalan PJU 1/37\, Dataran Prima\, Petaling Jaya\, Selangor\, 47301\, Malaysia
CATEGORIES:Continuous Professional Development (CPD) Seminar
ATTACH;FMTTYPE=image/jpeg:https://hartamasacademy.com/wp-content/uploads/2025/11/Tenancy-Agreement-Cover.jpg
END:VEVENT
END:VCALENDAR