BEGIN:VCALENDAR
VERSION:2.0
PRODID:-//Hartamas Academy - ECPv6.15.20//NONSGML v1.0//EN
CALSCALE:GREGORIAN
METHOD:PUBLISH
X-WR-CALNAME:Hartamas Academy
X-ORIGINAL-URL:https://hartamasacademy.com
X-WR-CALDESC:Events for Hartamas Academy
REFRESH-INTERVAL;VALUE=DURATION:PT1H
X-Robots-Tag:noindex
X-PUBLISHED-TTL:PT1H
BEGIN:VTIMEZONE
TZID:Asia/Kuala_Lumpur
BEGIN:STANDARD
TZOFFSETFROM:+0800
TZOFFSETTO:+0800
TZNAME:+08
DTSTART:20250101T000000
END:STANDARD
END:VTIMEZONE
BEGIN:VEVENT
DTSTART;TZID=Asia/Kuala_Lumpur:20260310T100000
DTEND;TZID=Asia/Kuala_Lumpur:20260310T130000
DTSTAMP:20260423T204823
CREATED:20260210T043954Z
LAST-MODIFIED:20260309T090538Z
UID:5338-1773136800-1773147600@hartamasacademy.com
SUMMARY:Housing Development Acts & Land Titles: Key Legal Implications
DESCRIPTION:« All Events\n 				\n				\n				\n				\n					This event has passed. \n				\n				\n				\n				\n					\n	Housing Development Acts & Land Titles: Key Legal Implications				\n				\n				\n				\n									[3 CPD hours Approved by LPEPH] 								\n				\n		\n					\n				\n				\n					\n	\n				\n				\n		\n				\n				\n									Date & Time:								\n				\n				\n				\n					\n		\n			10 March 2026 (Tuesday)\n\n		\n\n\n	\n				\n				\n				\n				\n					\n		\n		\n\n\n10:00 am\n\n		\n\n\n\n	\n	  -  \n\n1:00 pm\n\n\n\n	\n				\n				\n				\n				\n									Venue:								\n				\n				\n				\n									Hartamas Training CentreLevel 13\, Block A\, Menara Prima\, Jalan PJU 1/37\, Dataran Prima\, 47301\, Petaling Jaya\, Selangor Darul Ehsan. 								\n				\n				\n				\n							\n			\n		\n						\n				\n				\n					\n				\n				\n				\n					Speaker				\n				\n				\n				\n									Mr. David KokManaging PartnerMessrs David Kok & Partners (Advocates & Solicitors)  								\n				\n				\n				\n					Talk Points				\n				\n				\n				\n									Housing Development Act & Its Regulations Housing Development Amendment Act 2012.Housing Development Act 1966.Housing Developers (Control and Licensing) Regulations 1989.Accounts of Housing Developers.The entitlement to amend the statutory Sale and Purchase Agreement (SPA)?Delay in the handover of vacant possession.Pre-determined liquidated damages.Period for defect liability and the correction of defects.Types of Land Titles and Its Implications What constitutes a Master Title?What defines a Subdivided Title or Strata Title?What are Leasehold and Freehold Titles?Limitations on interests in land.Malay Reserve Land and Bumiputra Lots.Different types of titles – Registry Titles\, District Land\, Office Titles\, Final Titles\, and Qualified Titles.The concept of Indefeasibility.Encumbrances and other related interests.Various types of Caveats\, Easements\, and Leases. 								\n				\n				\n				\n							\n			\n						\n		\n						\n				\n				\n						\n					\n			\n						\n				\n					\n	\n		\n\n	\n	Add to calendar	\n		\n	\n\n		\n			\n									\n	Google Calendar\n\n									\n	iCalendar\n\n									\n	Outlook 365\n\n									\n	Outlook Live\n\n							\n		\n\n		\n	\n\n				\n				\n					\n		\n					\n		\n				\n						\n					\n			\n						\n				\n					\n	\n		\n\n				AI Mastery for Property Negotiators: Close More Deals with Less Effort	\n\n\n		\n	\n		Rights & Responsibilities of Parties in Strata Management			\n\n	\n\n				\n				\n					\n		\n					\n		\n					\n		\n					\n		\n				\n		Share this on:
URL:https://hartamasacademy.com/event/housing-development-acts-land-titles-key-legal-implications/
LOCATION:Hartamas Training Centre\, Level 13\, Block A\, Menara Prima\, Jalan PJU 1/37\, Dataran Prima\, Petaling Jaya\, Selangor\, 47301\, Malaysia
CATEGORIES:Continuous Professional Development (CPD) Seminar
ATTACH;FMTTYPE=image/png:https://hartamasacademy.com/wp-content/uploads/2026/02/3.png
END:VEVENT
END:VCALENDAR